BEGIN:VCALENDAR
VERSION:2.0
PRODID:-//Plone.org//NONSGML plone.app.event//EN
X-WR-TIMEZONE:Europe/Madrid
BEGIN:VEVENT
SUMMARY:Concurs Imatges CCD 2026
DTSTART;TZID=Europe/Madrid;VALUE=DATE-TIME:20260401T000000
DTEND;TZID=Europe/Madrid;VALUE=DATE-TIME:20260420T000000
DTSTAMP;VALUE=DATE-TIME:20260420T011129Z
UID:30ef7166faef4968a1bb760be6a81b47
CATEGORIES:Concursos i Premis
CONTACT:https://decidim.upc.edu/processes/concurs-imatges-ccd-2026
CREATED;VALUE=DATE-TIME:20260413T135838Z
DESCRIPTION:Vota entre les 150 fotografies al XXII Concurs Imatges del Sud
  Global
LAST-MODIFIED;VALUE=DATE-TIME:20260414T082019Z
URL:https://www.upc.edu/ca/agenda/esdeveniments/concurs-imatges-ccd-2026
END:VEVENT
BEGIN:VTIMEZONE
TZID:Europe/Madrid
X-LIC-LOCATION:Europe/Madrid
BEGIN:DAYLIGHT
DTSTART;VALUE=DATE-TIME:20260329T030000
TZNAME:CEST
TZOFFSETFROM:+0100
TZOFFSETTO:+0200
END:DAYLIGHT
END:VTIMEZONE
END:VCALENDAR
